BEGIN:VCALENDAR
VERSION:2.0
PRODID:-//Mountain Trails Gallery - ECPv6.15.20//NONSGML v1.0//EN
CALSCALE:GREGORIAN
METHOD:PUBLISH
X-WR-CALNAME:Mountain Trails Gallery
X-ORIGINAL-URL:https://mtntrails.net
X-WR-CALDESC:Events for Mountain Trails Gallery
REFRESH-INTERVAL;VALUE=DURATION:PT1H
X-Robots-Tag:noindex
X-PUBLISHED-TTL:PT1H
BEGIN:VTIMEZONE
TZID:UTC
BEGIN:STANDARD
TZOFFSETFROM:+0000
TZOFFSETTO:+0000
TZNAME:UTC
DTSTART:20250101T000000
END:STANDARD
END:VTIMEZONE
BEGIN:VEVENT
DTSTART;TZID=UTC:20260827T160000
DTEND;TZID=UTC:20260827T190000
DTSTAMP:20260424T094151
CREATED:20260330T163813Z
LAST-MODIFIED:20260330T163813Z
UID:15023-1787846400-1787857200@mtntrails.net
SUMMARY:Simon Winegar Show
DESCRIPTION:
URL:https://mtntrails.net/event/simon-winegar-show/
END:VEVENT
END:VCALENDAR