BEGIN:VCALENDAR
VERSION:2.0
PRODID:-//Mountain Trails Gallery - ECPv6.15.20//NONSGML v1.0//EN
CALSCALE:GREGORIAN
METHOD:PUBLISH
X-ORIGINAL-URL:https://mtntrails.net
X-WR-CALDESC:Events for Mountain Trails Gallery
REFRESH-INTERVAL;VALUE=DURATION:PT1H
X-Robots-Tag:noindex
X-PUBLISHED-TTL:PT1H
BEGIN:VTIMEZONE
TZID:UTC
BEGIN:STANDARD
TZOFFSETFROM:+0000
TZOFFSETTO:+0000
TZNAME:UTC
DTSTART:20250101T000000
END:STANDARD
END:VTIMEZONE
BEGIN:VEVENT
DTSTART;TZID=UTC:20260605T160000
DTEND;TZID=UTC:20260605T190000
DTSTAMP:20260424T081217
CREATED:20260330T162235Z
LAST-MODIFIED:20260330T162235Z
UID:15008-1780675200-1780686000@mtntrails.net
SUMMARY:Edward Aldrich Show
DESCRIPTION:
URL:https://mtntrails.net/event/edward-aldrich-show-3/
END:VEVENT
BEGIN:VEVENT
DTSTART;TZID=UTC:20260612T160000
DTEND;TZID=UTC:20260612T160000
DTSTAMP:20260424T081217
CREATED:20260330T162923Z
LAST-MODIFIED:20260330T163325Z
UID:15010-1781280000-1781280000@mtntrails.net
SUMMARY:Lyn St. Clair Show
DESCRIPTION:
URL:https://mtntrails.net/event/lyn-st-clair-show/
END:VEVENT
BEGIN:VEVENT
DTSTART;TZID=UTC:20260618T160000
DTEND;TZID=UTC:20260618T190000
DTSTAMP:20260424T081217
CREATED:20260330T163040Z
LAST-MODIFIED:20260330T163040Z
UID:15012-1781798400-1781809200@mtntrails.net
SUMMARY:Andrew Bolam Show
DESCRIPTION:
URL:https://mtntrails.net/event/andrew-bolam-show-2/
END:VEVENT
BEGIN:VEVENT
DTSTART;TZID=UTC:20260626T160000
DTEND;TZID=UTC:20260626T190000
DTSTAMP:20260424T081217
CREATED:20260330T163135Z
LAST-MODIFIED:20260330T163135Z
UID:15014-1782489600-1782500400@mtntrails.net
SUMMARY:Colt Idol Show
DESCRIPTION:
URL:https://mtntrails.net/event/colt-idol-show-3/
END:VEVENT
END:VCALENDAR