BEGIN:VCALENDAR
VERSION:2.0
PRODID:-//Mountain Trails Gallery - ECPv6.15.20//NONSGML v1.0//EN
CALSCALE:GREGORIAN
METHOD:PUBLISH
X-WR-CALNAME:Mountain Trails Gallery
X-ORIGINAL-URL:https://mtntrails.net
X-WR-CALDESC:Events for Mountain Trails Gallery
REFRESH-INTERVAL;VALUE=DURATION:PT1H
X-Robots-Tag:noindex
X-PUBLISHED-TTL:PT1H
BEGIN:VTIMEZONE
TZID:UTC
BEGIN:STANDARD
TZOFFSETFROM:+0000
TZOFFSETTO:+0000
TZNAME:UTC
DTSTART:20250101T000000
END:STANDARD
END:VTIMEZONE
BEGIN:VEVENT
DTSTART;TZID=UTC:20260501T160000
DTEND;TZID=UTC:20260501T180000
DTSTAMP:20260422T100445
CREATED:20260330T161337Z
LAST-MODIFIED:20260330T161337Z
UID:15004-1777651200-1777658400@mtntrails.net
SUMMARY:Whitney Weidow Show
DESCRIPTION:
URL:https://mtntrails.net/event/whitney-weidow-show/
END:VEVENT
BEGIN:VEVENT
DTSTART;TZID=UTC:20260522T160000
DTEND;TZID=UTC:20260522T180000
DTSTAMP:20260422T100445
CREATED:20260330T161439Z
LAST-MODIFIED:20260330T161439Z
UID:15006-1779465600-1779472800@mtntrails.net
SUMMARY:Mark Gibson Show
DESCRIPTION:
URL:https://mtntrails.net/event/mark-gibson-show-3/
END:VEVENT
END:VCALENDAR