BEGIN:VCALENDAR
VERSION:2.0
PRODID:-//Mountain Trails Gallery - ECPv6.15.20//NONSGML v1.0//EN
CALSCALE:GREGORIAN
METHOD:PUBLISH
X-WR-CALNAME:Mountain Trails Gallery
X-ORIGINAL-URL:https://mtntrails.net
X-WR-CALDESC:Events for Mountain Trails Gallery
REFRESH-INTERVAL;VALUE=DURATION:PT1H
X-Robots-Tag:noindex
X-PUBLISHED-TTL:PT1H
BEGIN:VTIMEZONE
TZID:UTC
BEGIN:STANDARD
TZOFFSETFROM:+0000
TZOFFSETTO:+0000
TZNAME:UTC
DTSTART:20240101T000000
END:STANDARD
END:VTIMEZONE
BEGIN:VEVENT
DTSTART;TZID=UTC:20250705T160000
DTEND;TZID=UTC:20250705T190000
DTSTAMP:20260420T214940
CREATED:20241002T172848Z
LAST-MODIFIED:20241002T172848Z
UID:13054-1751731200-1751742000@mtntrails.net
SUMMARY:Troy Collins Show
DESCRIPTION:
URL:https://mtntrails.net/event/troy-collins-show-2/
LOCATION:Mountain Trails Gallery\, 155 Center Street\, Jackson\, WY\, 83001\, United States
END:VEVENT
BEGIN:VEVENT
DTSTART;TZID=UTC:20250710T160000
DTEND;TZID=UTC:20250710T190000
DTSTAMP:20260420T214940
CREATED:20250326T184521Z
LAST-MODIFIED:20250326T184521Z
UID:13525-1752163200-1752174000@mtntrails.net
SUMMARY:Bryce Pettit Show
DESCRIPTION:
URL:https://mtntrails.net/event/bryce-pettit-show-2/
LOCATION:Mountain Trails Gallery\, 155 Center Street\, Jackson\, WY\, 83001\, United States
END:VEVENT
BEGIN:VEVENT
DTSTART;TZID=UTC:20250731T160000
DTEND;TZID=UTC:20250731T190000
DTSTAMP:20260420T214940
CREATED:20250326T184354Z
LAST-MODIFIED:20250326T184354Z
UID:13523-1753977600-1753988400@mtntrails.net
SUMMARY:Mark Gibson Show
DESCRIPTION:
URL:https://mtntrails.net/event/mark-gibson-show-2/
LOCATION:Mountain Trails Gallery\, 155 Center Street\, Jackson\, WY\, 83001\, United States
END:VEVENT
END:VCALENDAR