BEGIN:VCALENDAR
VERSION:2.0
PRODID:-//Mountain Trails Gallery - ECPv6.15.20//NONSGML v1.0//EN
CALSCALE:GREGORIAN
METHOD:PUBLISH
X-WR-CALNAME:Mountain Trails Gallery
X-ORIGINAL-URL:https://mtntrails.net
X-WR-CALDESC:Events for Mountain Trails Gallery
REFRESH-INTERVAL;VALUE=DURATION:PT1H
X-Robots-Tag:noindex
X-PUBLISHED-TTL:PT1H
BEGIN:VTIMEZONE
TZID:UTC
BEGIN:STANDARD
TZOFFSETFROM:+0000
TZOFFSETTO:+0000
TZNAME:UTC
DTSTART:20220101T000000
END:STANDARD
END:VTIMEZONE
BEGIN:VEVENT
DTSTART;TZID=UTC:20240815T160000
DTEND;TZID=UTC:20240815T190000
DTSTAMP:20260420T171835
CREATED:20240216T202949Z
LAST-MODIFIED:20240216T202949Z
UID:11987-1723737600-1723748400@mtntrails.net
SUMMARY:Mark Gibson Show
DESCRIPTION:
URL:https://mtntrails.net/event/mark-gibson-show/
LOCATION:Mountain Trails Gallery\, 155 Center Street\, Jackson\, WY\, 83001\, United States
END:VEVENT
BEGIN:VEVENT
DTSTART;TZID=UTC:20240809T160000
DTEND;TZID=UTC:20240810T190000
DTSTAMP:20260420T171835
CREATED:20240203T001405Z
LAST-MODIFIED:20240805T215801Z
UID:11896-1723219200-1723316400@mtntrails.net
SUMMARY:Amy Lay Show
DESCRIPTION:
URL:https://mtntrails.net/event/amy-lay-show/
LOCATION:Mountain Trails Gallery\, 155 Center Street\, Jackson\, WY\, 83001\, United States
END:VEVENT
BEGIN:VEVENT
DTSTART;TZID=UTC:20240725T080000
DTEND;TZID=UTC:20240730T170000
DTSTAMP:20260420T171835
CREATED:20240506T230217Z
LAST-MODIFIED:20240721T213107Z
UID:12310-1721894400-1722358800@mtntrails.net
SUMMARY:Kim Casebeer Exhibition
DESCRIPTION:
URL:https://mtntrails.net/event/kim-casebeer-exhibition/
LOCATION:Mountain Trails Gallery\, 155 Center Street\, Jackson\, WY\, 83001\, United States
END:VEVENT
BEGIN:VEVENT
DTSTART;TZID=UTC:20240718T160000
DTEND;TZID=UTC:20240718T190000
DTSTAMP:20260420T171835
CREATED:20240203T001252Z
LAST-MODIFIED:20240203T001252Z
UID:11894-1721318400-1721329200@mtntrails.net
SUMMARY:Bryce Pettit Show
DESCRIPTION:
URL:https://mtntrails.net/event/bryce-pettit-show/
LOCATION:Mountain Trails Gallery\, 155 Center Street\, Jackson\, WY\, 83001\, United States
END:VEVENT
BEGIN:VEVENT
DTSTART;TZID=UTC:20240705T160000
DTEND;TZID=UTC:20240705T190000
DTSTAMP:20260420T171835
CREATED:20240202T235842Z
LAST-MODIFIED:20240621T000251Z
UID:11892-1720195200-1720206000@mtntrails.net
SUMMARY:Troy Collins Show
DESCRIPTION:
URL:https://mtntrails.net/event/troy-collins-show/
LOCATION:Mountain Trails Gallery\, 155 Center Street\, Jackson\, WY\, 83001\, United States
END:VEVENT
BEGIN:VEVENT
DTSTART;TZID=UTC:20240620T160000
DTEND;TZID=UTC:20240620T190000
DTSTAMP:20260420T171835
CREATED:20240202T235712Z
LAST-MODIFIED:20240202T235712Z
UID:11890-1718899200-1718910000@mtntrails.net
SUMMARY:Edward Aldrich Show
DESCRIPTION:
URL:https://mtntrails.net/event/edward-aldrich-show/
LOCATION:Mountain Trails Gallery\, 155 Center Street\, Jackson\, WY\, 83001\, United States
END:VEVENT
BEGIN:VEVENT
DTSTART;TZID=UTC:20231229T160000
DTEND;TZID=UTC:20231229T180000
DTSTAMP:20260420T171835
CREATED:20230405T175427Z
LAST-MODIFIED:20231211T175306Z
UID:10361-1703865600-1703872800@mtntrails.net
SUMMARY:COLT IDOL
DESCRIPTION:   
URL:https://mtntrails.net/event/colt-idol/
LOCATION:Mountain Trails Gallery\, 155 Center Street\, Jackson\, WY\, 83001\, United States
END:VEVENT
BEGIN:VEVENT
DTSTART;TZID=UTC:20231214T160000
DTEND;TZID=UTC:20231214T190000
DTSTAMP:20260420T171835
CREATED:20231211T175627Z
LAST-MODIFIED:20231211T175659Z
UID:11240-1702569600-1702580400@mtntrails.net
SUMMARY:Jackson Hole Holiday Stroll
DESCRIPTION:
URL:https://mtntrails.net/event/jackson-hole-holiday-stroll/
LOCATION:Mountain Trails Gallery\, 155 Center Street\, Jackson\, WY\, 83001\, United States
END:VEVENT
END:VCALENDAR